BEGIN:VCALENDAR
VERSION:2.0
PRODID:-//Borderline Regional Arts Association inc - ECPv6.3.1//NONSGML v1.0//EN
CALSCALE:GREGORIAN
METHOD:PUBLISH
X-WR-CALNAME:Borderline Regional Arts Association inc
X-ORIGINAL-URL:https://borderlineregionalarts.com.au
X-WR-CALDESC:Events for Borderline Regional Arts Association inc
REFRESH-INTERVAL;VALUE=DURATION:PT1H
X-Robots-Tag:noindex
X-PUBLISHED-TTL:PT1H
BEGIN:VTIMEZONE
TZID:Australia/Melbourne
BEGIN:STANDARD
TZOFFSETFROM:+1100
TZOFFSETTO:+1000
TZNAME:AEST
DTSTART:20220402T160000
END:STANDARD
BEGIN:DAYLIGHT
TZOFFSETFROM:+1000
TZOFFSETTO:+1100
TZNAME:AEDT
DTSTART:20221001T160000
END:DAYLIGHT
END:VTIMEZONE
BEGIN:VEVENT
DTSTART;TZID=Australia/Melbourne:20220219T090000
DTEND;TZID=Australia/Melbourne:20220220T170000
DTSTAMP:20260426T000920
CREATED:20211130T051528Z
LAST-MODIFIED:20220118T073535Z
UID:10000218-1645261200-1645376400@borderlineregionalarts.com.au
SUMMARY:Borderline Workshop - THE REAL SELFIE: UP CLOSE AND PERSONAL with JOOLIE GIBBS 2 Day Workshop
DESCRIPTION:This project was made possible by the Australian Government’s Regional Arts Fund\, which supports the arts in regional and remote Australia. \nSpend two days with Gympie artist Joolie Gibbs delving into the intricacies of portraiture to discover and reclaim your real identity and/or that of your classmates\, beginning by looking analytically at the portrait\, by exploring different facial aspects. \n“We will touch on some well-known self-portrait artists\, styles of portraiture\, the fundamentals of portraiture\, and undertake some up-close observations and personal reflections using drawing as our centre. You will go home with a better understanding of yourself\, warts and all\, with a new confidence in handling the portrait.” \nJoolie believes in using what you have and will encourage participants to extend their use of materials. Joolie is a finalist in the Lyn McCrae Memorial Drawing Prize 2021\, currently showing at Noosa Regional Gallery\, and has a piece touring with the Flying Arts Regional Art Awards in 2022. She was involved in the project ‘Wild/flower Woman: Women Walkingon Country’ in 2020 and artists residency workshops through the Gympie Regional Gallery. \nFebruary 19th and 20th\, 2021 \nMembers $205 \nNon-Members $230 \nLimited to 10 participants. \nFor enrolment please contact Krishna Heffernan \nkrishna.1958@outlook.com
URL:https://borderlineregionalarts.com.au/event/borderline-workshop-the-real-selfie-up-close-and-personal-with-joolie-gibbs-2-day-workshop/
LOCATION:Tenterfield Railway Museum Engine Driver’s Cottage\, Miles Street\, Tenterfield\, NSW\, 2372\, Australia
CATEGORIES:Borderline Workshops
ATTACH;FMTTYPE=image/png:https://borderlineregionalarts.com.au/wp-content/uploads/sites/43/2021/11/Borderline.png
END:VEVENT
END:VCALENDAR