BEGIN:VCALENDAR
VERSION:2.0
PRODID:-//Borderline Regional Arts Association inc - ECPv6.3.1//NONSGML v1.0//EN
CALSCALE:GREGORIAN
METHOD:PUBLISH
X-WR-CALNAME:Borderline Regional Arts Association inc
X-ORIGINAL-URL:https://borderlineregionalarts.com.au
X-WR-CALDESC:Events for Borderline Regional Arts Association inc
REFRESH-INTERVAL;VALUE=DURATION:PT1H
X-Robots-Tag:noindex
X-PUBLISHED-TTL:PT1H
BEGIN:VTIMEZONE
TZID:Australia/Melbourne
BEGIN:STANDARD
TZOFFSETFROM:+1100
TZOFFSETTO:+1000
TZNAME:AEST
DTSTART:20210403T160000
END:STANDARD
BEGIN:DAYLIGHT
TZOFFSETFROM:+1000
TZOFFSETTO:+1100
TZNAME:AEDT
DTSTART:20211002T160000
END:DAYLIGHT
END:VTIMEZONE
BEGIN:VEVENT
DTSTART;VALUE=DATE:20211029
DTEND;VALUE=DATE:20211101
DTSTAMP:20260426T085518
CREATED:20210710T043851Z
LAST-MODIFIED:20210710T043851Z
UID:10000222-1635465600-1635724799@borderlineregionalarts.com.au
SUMMARY:Louise Jenkins Art Exhibition 2021 at Ballandean Hall
DESCRIPTION:Free entry\nOpen 10am – 4pm\nAn exhibition of around 30-40 original art works (no reproductions) by Artist Louise Jenkins\, on the #GBART2021. \n\n\n\nIn 2021 this artist has been exploring printmaking techniques (including mokulito\, screen printing\, dry-point etching\, lithography and linocut)\, and working on new paintings\, and drawing collections.  This exhibition celebrates her creations of 2021\, punctuated by earlier works from the artist’s collection\, thus providing a holistic view of this artist.\nA selection of unframed monoprints\, limited edition linocuts\, and life drawings are also available.\nExhibition floor talks are scheduled and require booking to avoid disappointment. Bookings can be made at https://gbart.org.au/events/view/louise-jenkins-1 \n\nOther activities at this GBART venue\n– Printmaking Workshop with Artist Louise Jenkins\n– Workshop with Pam Docherty (Precious Metal Clay Artist)\n– Jewellery Shop – unique\, precious metal jewellery\, created by Pam Docherty\nhttps://gbart.org.au/artisans/view/pam-docherty-2021\nhttps://gbart.org.au/artisans/view/louise-jenkins-2021
URL:https://borderlineregionalarts.com.au/event/louise-jenkins-art-exhibition-2021-at-ballandean-hall/
LOCATION:Ballandean Hall\, 28202 New England Hwy\, Ballandean\, Queensland\, 4382
CATEGORIES:Exhibitions
ATTACH;FMTTYPE=image/jpeg:https://borderlineregionalarts.com.au/wp-content/uploads/sites/43/2021/07/Facebook-Exhibition-event.jpg
ORGANIZER;CN="Louise Jenkins":MAILTO:Artist.LouiseJenkins@gmail.com
END:VEVENT
BEGIN:VEVENT
DTSTART;TZID=Australia/Melbourne:20211029T100000
DTEND;TZID=Australia/Melbourne:20211029T120000
DTSTAMP:20260426T085518
CREATED:20210710T060315Z
LAST-MODIFIED:20210710T060315Z
UID:10000220-1635501600-1635508800@borderlineregionalarts.com.au
SUMMARY:Louise Jenkins Printmaking Workshop at Ballandean Hall
DESCRIPTION:$60 per person\n10am to 12 noon (why not stay for lunch with your pre-ordered GBART picnic).\n\nWelcome to a world of intaglio printing combined with layered printing and/or hand colouring effects.\nCreate 8 – 10 unique and beautiful prints. We’ll be using small formats\, so that you can play with lots of variation\, creating and building on multiple images.\nMaterials provided for 8-10 finished prints. Additional materials are available for purchase on the day if time permits.\n\nOther activities at this GBART venue between 10 and 4\n– Louise Jenkins Solo Art Exhibition (free entry). 30 – 40 original painting and prints for sale\n– Art Exhibition Floor Talks\n– Workshop with Pam Docherty (Precious Metal Clay Artist)\n– Jewellery Shop – unique\, precious metal jewellery\, created by Pam Docherty\n– Picnic Area\nhttps://gbart.org.au/artisans/view/louise-jenkins-2021\nhttps://gbart.org.au/artisans/view/pam-docherty-2021
URL:https://borderlineregionalarts.com.au/event/louise-jenkins-printmaking-workshop-2021-at-ballandean-hall-2/2021-10-29/
LOCATION:Ballandean Hall\, 28202 New England Hwy\, Ballandean\, Queensland\, 4382
CATEGORIES:Workshops
ATTACH;FMTTYPE=image/jpeg:https://borderlineregionalarts.com.au/wp-content/uploads/sites/43/2021/07/Facebook-Workshop-event.jpg
ORGANIZER;CN="Louise Jenkins":MAILTO:Artist.LouiseJenkins@gmail.com
END:VEVENT
BEGIN:VEVENT
DTSTART;TZID=Australia/Melbourne:20211029T100000
DTEND;TZID=Australia/Melbourne:20211031T160000
DTSTAMP:20260426T085518
CREATED:20210703T083001Z
LAST-MODIFIED:20210715T044023Z
UID:10000223-1635501600-1635696000@borderlineregionalarts.com.au
SUMMARY:GBART 2021 - October 29th to 31st
DESCRIPTION:Borderline Artists will be showcasing their artisan talent at the Summit\, right next door to the Alpaca Artisans Shop! \nWorks for sale cover a wide variety of mediums. \nMeet the makers all weekend\, discuss their techniques\, and buy a piece of local artwork. \nThere will be ongoing short workshops by experienced tutors every day\, an i \ndeal time to have a “taster” of what is available for later full workshops\, right here on the beautiful Granite Belt. A full description of the workshops available can be seen at the GBART website. 
URL:https://borderlineregionalarts.com.au/event/gbart-2021/
LOCATION:The Summit\, The Summit\, Qld\, Australia
CATEGORIES:Borderline Exhibitions,Borderline Workshops,Exhibitions,Workshops
ATTACH;FMTTYPE=image/jpeg:https://borderlineregionalarts.com.au/wp-content/uploads/sites/43/2021/07/GBArt_FacebookCover2021-hi-res.jpg
ORGANIZER;CN="GBART":MAILTO:secretary@gbart.org.au
END:VEVENT
BEGIN:VEVENT
DTSTART;TZID=Australia/Melbourne:20211030T100000
DTEND;TZID=Australia/Melbourne:20211030T120000
DTSTAMP:20260426T085518
CREATED:20210710T060315Z
LAST-MODIFIED:20210710T060315Z
UID:10000221-1635588000-1635595200@borderlineregionalarts.com.au
SUMMARY:Louise Jenkins Printmaking Workshop at Ballandean Hall
DESCRIPTION:$60 per person\n10am to 12 noon (why not stay for lunch with your pre-ordered GBART picnic).\n\nWelcome to a world of intaglio printing combined with layered printing and/or hand colouring effects.\nCreate 8 – 10 unique and beautiful prints. We’ll be using small formats\, so that you can play with lots of variation\, creating and building on multiple images.\nMaterials provided for 8-10 finished prints. Additional materials are available for purchase on the day if time permits.\n\nOther activities at this GBART venue between 10 and 4\n– Louise Jenkins Solo Art Exhibition (free entry). 30 – 40 original painting and prints for sale\n– Art Exhibition Floor Talks\n– Workshop with Pam Docherty (Precious Metal Clay Artist)\n– Jewellery Shop – unique\, precious metal jewellery\, created by Pam Docherty\n– Picnic Area\nhttps://gbart.org.au/artisans/view/louise-jenkins-2021\nhttps://gbart.org.au/artisans/view/pam-docherty-2021
URL:https://borderlineregionalarts.com.au/event/louise-jenkins-printmaking-workshop-2021-at-ballandean-hall-2/2021-10-30/
LOCATION:Ballandean Hall\, 28202 New England Hwy\, Ballandean\, Queensland\, 4382
CATEGORIES:Workshops
ATTACH;FMTTYPE=image/jpeg:https://borderlineregionalarts.com.au/wp-content/uploads/sites/43/2021/07/Facebook-Workshop-event.jpg
ORGANIZER;CN="Louise Jenkins":MAILTO:Artist.LouiseJenkins@gmail.com
END:VEVENT
END:VCALENDAR