 
BEGIN:VCALENDAR
VERSION:2.0
PRODID:-//Borderline Regional Arts Association inc - ECPv4.9.5//NONSGML v1.0//EN
CALSCALE:GREGORIAN
METHOD:PUBLISH
X-WR-CALNAME:Borderline Regional Arts Association inc
X-ORIGINAL-URL:https://borderlineregionalarts.com.au
X-WR-CALDESC:Events for Borderline Regional Arts Association inc
BEGIN:VTIMEZONE
TZID:"Europe/Paris"
BEGIN:DAYLIGHT
TZOFFSETFROM:+0100
TZOFFSETTO:+0200
TZNAME:CEST
DTSTART:20200329T010000
END:DAYLIGHT
BEGIN:STANDARD
TZOFFSETFROM:+0200
TZOFFSETTO:+0100
TZNAME:CET
DTSTART:20201025T010000
END:STANDARD
END:VTIMEZONE
BEGIN:VEVENT
DTSTART;TZID="Europe/Paris":20200301T080000
DTEND;TZID="Europe/Paris":20200301T170000
DTSTAMP:20200229T113209
CREATED:20190810T070907Z
LAST-MODIFIED:20190811T062916Z
UID:1938-1583049600-1583082000@borderlineregionalarts.com.au
SUMMARY:Local Artists Exhibition - Stanthorpe Regional Arts 2020
DESCRIPTION:In March 2020 Stanthorpe Regional Gallery will host its annual Local Artists Exhibition where you can catch local talent\, including our members\, exhibiting drawings\, paintings\, felt making\, etchings\, sculpture and more. \nReport This Post 
URL:https://borderlineregionalarts.com.au/event/local-artists-exhibition-stanthorpe-regional-arts/
LOCATION:Stanthorpe Regional Art Gallery\, Lock St \, Stanthorpe\, QLD\, 4380\, Australia
CATEGORIES:Exhibitions
END:VEVENT
BEGIN:VEVENT
DTSTART;TZID="Europe/Paris":20200402T180000
DTEND;TZID="Europe/Paris":20200509T180000
DTSTAMP:20200229T113209
CREATED:20190810T071450Z
LAST-MODIFIED:20200105T040126Z
UID:1940-1585850400-1589047200@borderlineregionalarts.com.au
SUMMARY:Borderline presents "from here to there' at the Warwick Regional Art Gallery 2020
DESCRIPTION:Borderline Exhibition hosted by Warwick Regional Gallery : 2nd April – 9th May 2020. Here is a  preview of images of work from some of our artists…. \n\n		\n			#gallery-1 {\n				margin: auto;\n			}\n			#gallery-1 .gallery-item {\n				float: left;\n				margin-top: 10px;\n				text-align: center;\n				width: 33%;\n			}\n			#gallery-1 img {\n				border: 2px solid #cfcfcf;\n			}\n			#gallery-1 .gallery-caption {\n				margin-left: 0;\n			}\n			/* see gallery_shortcode() in wp-includes/media.php */\n		\n		\n			\n				\n			\n				\n				Nola Sindel \n				\n			\n				\n			\n				\n				Liz Powell \n				\n			\n				\n			\n				\n				Raylee Delaney \n				\n			\n				\n			\n				\n				Jayne Barrett \n				\n			\n				\n			\n				\n				Jayne Barrett \n				\n			\n				\n			\n				\n				Raylee Delaney \n				\n		\n\nReport This Post 
URL:https://borderlineregionalarts.com.au/event/warwick-regional-artists-gallery-hosts-borderline-exhibition/
LOCATION:Warwick Regional Gallery\, 49 Albion St\,\, Warwick\, Qld\, 4370\, Australia
CATEGORIES:Borderline Exhibitions,Exhibitions
END:VEVENT
BEGIN:VEVENT
DTSTART;TZID="Europe/Paris":20200601T080000
DTEND;TZID="Europe/Paris":20200601T170000
DTSTAMP:20200229T113209
CREATED:20190810T071846Z
LAST-MODIFIED:20190913T231316Z
UID:1943-1590998400-1591030800@borderlineregionalarts.com.au
SUMMARY:Stanthorpe Art Prize 2020 - ENTRIES NOW OPEN!
DESCRIPTION:ENTRIES NOW OPEN! \nOur members are often amongst the winners in the Stanthorpe Art Prize held in June\, Stanthorpe Regional Gallery. \n\nThere are AUD$50\,000 in prizes across 11 categories. Entries for the art prize are open to Australian artists and close 16 March 2020. \nThe finalist’s exhibition will be open for public viewing in mid 2020. \n\nReport This Post 
URL:https://borderlineregionalarts.com.au/event/stanthorpe-art-prize/
LOCATION:Stanthorpe Regional Art Gallery\, Lock St \, Stanthorpe\, QLD\, 4380\, Australia
CATEGORIES:Competitions,Exhibitions
END:VEVENT
END:VCALENDAR